BEGIN:VCALENDAR
VERSION:2.0
PRODID:-//Swing Remix - ECPv4.9.14.1//NONSGML v1.0//EN
CALSCALE:GREGORIAN
METHOD:PUBLISH
X-WR-CALNAME:Swing Remix
X-ORIGINAL-URL:https://swingremix.com
X-WR-CALDESC:Events for Swing Remix
BEGIN:VTIMEZONE
TZID:America/New_York
BEGIN:DAYLIGHT
TZOFFSETFROM:-0500
TZOFFSETTO:-0400
TZNAME:EDT
DTSTART:20240310T070000
END:DAYLIGHT
BEGIN:STANDARD
TZOFFSETFROM:-0400
TZOFFSETTO:-0500
TZNAME:EST
DTSTART:20241103T060000
END:STANDARD
END:VTIMEZONE
BEGIN:VEVENT
DTSTART;TZID=America/New_York:20240203T154500
DTEND;TZID=America/New_York:20240203T170000
DTSTAMP:20260425T181333
CREATED:20240123T165907Z
LAST-MODIFIED:20240123T165907Z
UID:2771-1706975100-1706979600@swingremix.com
SUMMARY:LINDY NEXT LEVEL SAT FEB 3
DESCRIPTION:LINDY NEXT LEVEL\n1.5HR LEVEL 2 and up\nAdd stylish Lindy Hop partner combinations and patterns to expand your swing dance knowledge. We’ll begin with the Classic Lindy Circle\, The Tuck Turn and Shoot Thru. Techniques of counter-balance\, grounding and responsibilities of leader and follow are studied for optimal execution of the material. Swivel patterns if time permits. \nTICKETS AT EVENTBRITE available now! 20% OFF if you purchase before JAN 28! use code: EARLY \nPRICE:\n$26 in advance (even lower when you purchase during promo period)\n$30 door \n
URL:https://swingremix.com/event/lindy-next-level-sat-feb-3/
LOCATION:DANZNIK STUDIOS NYC\, 240 WEST 37th Street\, New York\, NY\, 10018\, United States
CATEGORIES:Workshops
ATTACH;FMTTYPE=image/jpeg:https://swingremix.com/wp-content/uploads/2024/01/LINDY-Next-Level-select-SAT-2024.jpg
ORGANIZER;CN="Jumpin%20Entertainment%20LLC":MAILTO:info@JumpinEntertainment.com
END:VEVENT
END:VCALENDAR