BEGIN:VCALENDAR
VERSION:2.0
PRODID:-//Swing Remix - ECPv4.9.14.1//NONSGML v1.0//EN
CALSCALE:GREGORIAN
METHOD:PUBLISH
X-WR-CALNAME:Swing Remix
X-ORIGINAL-URL:https://swingremix.com
X-WR-CALDESC:Events for Swing Remix
BEGIN:VTIMEZONE
TZID:America/New_York
BEGIN:DAYLIGHT
TZOFFSETFROM:-0500
TZOFFSETTO:-0400
TZNAME:EDT
DTSTART:20220313T070000
END:DAYLIGHT
BEGIN:STANDARD
TZOFFSETFROM:-0400
TZOFFSETTO:-0500
TZNAME:EST
DTSTART:20221106T060000
END:STANDARD
END:VTIMEZONE
BEGIN:VEVENT
DTSTART;TZID=America/New_York:20221229T173000
DTEND;TZID=America/New_York:20221229T203000
DTSTAMP:20260421T182048
CREATED:20221208T015818Z
LAST-MODIFIED:20221228T215703Z
UID:2455-1672335000-1672345800@swingremix.com
SUMMARY:Nick Palumbo & His Napoli 5 THUR DEC 29
DESCRIPTION:Catch this 1950s style band perform the early jazz sets at Swing 46 Jazz and Supper Club. This swanky night club features a wonderful hardwood dance floor and lots of tables to enjoy the food and drinks. \nDATE: THUR DEC 29\nBAND: NICK PALUMBO & HIS NAPOLI 5\nTIME: 5:30-8:30PM\nLOCATION: SWING 46 Jazz & Supper Club \n
URL:https://swingremix.com/event/nick-palumbo-his-napoli-5-thur-dec-29/
LOCATION:NY\, United States
CATEGORIES:Dance Party
ATTACH;FMTTYPE=image/jpeg:https://swingremix.com/wp-content/uploads/2022/12/Nick-Palumbo-Napoli-5-DEC-29.jpg
END:VEVENT
END:VCALENDAR