BEGIN:VCALENDAR
VERSION:2.0
PRODID:-//Swing Remix - ECPv4.9.14.1//NONSGML v1.0//EN
CALSCALE:GREGORIAN
METHOD:PUBLISH
X-WR-CALNAME:Swing Remix
X-ORIGINAL-URL:https://swingremix.com
X-WR-CALDESC:Events for Swing Remix
BEGIN:VTIMEZONE
TZID:America/New_York
BEGIN:DAYLIGHT
TZOFFSETFROM:-0500
TZOFFSETTO:-0400
TZNAME:EDT
DTSTART:20190310T070000
END:DAYLIGHT
BEGIN:STANDARD
TZOFFSETFROM:-0400
TZOFFSETTO:-0500
TZNAME:EST
DTSTART:20191103T060000
END:STANDARD
END:VTIMEZONE
BEGIN:VEVENT
DTSTART;TZID=America/New_York:20191005T183000
DTEND;TZID=America/New_York:20191005T203000
DTSTAMP:20260423T144928
CREATED:20190929T235939Z
LAST-MODIFIED:20190930T000052Z
UID:1822-1570300200-1570307400@swingremix.com
SUMMARY:OCTOBER 5th WORKSHOPS
DESCRIPTION:Our workshops on Saturday October 5th feature dance extraordinaire Gaby Cook. See details below\n \nWORKSHOPS\n \n \n6:30PM (55min) – CHARLESTON MEETS LINDY | Level: Adv Basics and up\nLocation: Auditorium L2\nDescription: Let’s clean up your swing partnering skills and then we’ll infuse Charleston patterns into your lindy with new and easy transitions and strategies.\nInstructors: Gaby Cook \n7:30PM (55min) BREAK AWAY & CHARLESTON SWING-OUTS |  Level: Int +\nLocation: 4th Floor\nDescription: Bring new life to your 8-count swing by adding two new approaches to your lindy hop — both derived from Charleston and pre-swing patterns.\nInstructor: Gaby Cook \n \n7:45PM (30 min) BEGINNER SWING | Level: Beginner Open\nLocation: Auditorium L2\nThis class is great if you’re new to swing or if you would like a refresher on partnering. You’ll learn techniques that will bring you up to speed with the crowd of swing dancers. This class is FREE with your General Admission ticket.\nInstructor: Paolo & Partner \n
URL:https://swingremix.com/event/october-5th-workshops/
LOCATION:Marlene Meyerson JCC Manhattan\, 334 Amsterdam Ave\, New York\, NY\, 10023\, United States
CATEGORIES:Workshops
ATTACH;FMTTYPE=image/jpeg:https://swingremix.com/wp-content/uploads/2018/02/NathanGaby_IMG_0307.jpeg
ORGANIZER;CN="Swing%20Remix":MAILTO:info@swingremix.com
END:VEVENT
END:VCALENDAR