BEGIN:VCALENDAR
VERSION:2.0
PRODID:-//Swing Remix - ECPv4.9.14.1//NONSGML v1.0//EN
CALSCALE:GREGORIAN
METHOD:PUBLISH
X-WR-CALNAME:Swing Remix
X-ORIGINAL-URL:https://swingremix.com
X-WR-CALDESC:Events for Swing Remix
BEGIN:VTIMEZONE
TZID:America/New_York
BEGIN:DAYLIGHT
TZOFFSETFROM:-0500
TZOFFSETTO:-0400
TZNAME:EDT
DTSTART:20190310T070000
END:DAYLIGHT
BEGIN:STANDARD
TZOFFSETFROM:-0400
TZOFFSETTO:-0500
TZNAME:EST
DTSTART:20191103T060000
END:STANDARD
END:VTIMEZONE
BEGIN:VEVENT
DTSTART;TZID=America/New_York:20191102T183000
DTEND;TZID=America/New_York:20191102T203000
DTSTAMP:20260423T095752
CREATED:20191020T203409Z
LAST-MODIFIED:20191021T185833Z
UID:1945-1572719400-1572726600@swingremix.com
SUMMARY:Pre-Dance Workshops NOV 2 Trickeration
DESCRIPTION:PRE-DANCE Workshops for\nSATURDAY NOVEMBER 2nd\, 2019\n6:15PM Doors Open for Pre-Dance Workshops\nMarlene Meyerson JCC Manhattan 334 Amsterdam Ave NYC\n\nphoto by Byron Hon © 2019 \nWORKSHOPS\n6:30PM (55min) – Exploring The Balboa | Swing Workshop (Adv Basics and up) Location: Auditorium L2\nDescription: A great opportunity to learn the style of swing called Balboa. Here you’ll get a wonderful introduction to the dance\, learn the basic footwork\, the styling and some easy patterns to show off.\nInstructors: Yurina Shin & Lewi Gilamichael \n \n7:30PM (55min) SOLO JAZZ WORKSHOP | TRICKERATION CHOREOGRAPHY  Level: Int +\nLocation: 4th Floor\nDescription: Learn or refresh your knowledge of this world famous routine created by NORMA MILLER the Queen of Swing. In response to the GLOBAL TRICKERATION PROJECT\, we’ll be participating by presenting this workshop followed by a showcase of the routine later in the evening open to all who wish to participate! Proceeds from this workshop will go towards the Frankie Manning Foundation (to benefit The Norma Miller Estate)\nInstructor: Rafal Pustelny \n\nphoto by Byron Hon © 2019 \n7:45PM (30 min) BEGINNER SWING | Level: Beginner Open\nLocation: Auditorium L2\nThis class is great if you’re new to swing or if you would like a refresher on partnering. You’ll learn techniques that will bring you up to speed with the crowd of swing dancers. This class is FREE with your General Admission ticket.\nInstructor: Spencer \n \n  \n
URL:https://swingremix.com/event/pre-dance-workshops-dec-2-trickeration/
LOCATION:Marlene Meyerson JCC Manhattan\, 334 Amsterdam Ave\, New York\, NY\, 10023\, United States
CATEGORIES:Dance Party,Workshops
ATTACH;FMTTYPE=image/jpeg:https://swingremix.com/wp-content/uploads/2019/10/Trickeration-Swing-Remix-Screenshot1080.jpg
ORGANIZER;CN="Swing%20Remix":MAILTO:info@swingremix.com
END:VEVENT
END:VCALENDAR