BEGIN:VCALENDAR
VERSION:2.0
PRODID:-//Swing Remix - ECPv4.9.14.1//NONSGML v1.0//EN
CALSCALE:GREGORIAN
METHOD:PUBLISH
X-WR-CALNAME:Swing Remix
X-ORIGINAL-URL:https://swingremix.com
X-WR-CALDESC:Events for Swing Remix
BEGIN:VTIMEZONE
TZID:America/New_York
BEGIN:DAYLIGHT
TZOFFSETFROM:-0500
TZOFFSETTO:-0400
TZNAME:EDT
DTSTART:20200308T070000
END:DAYLIGHT
BEGIN:STANDARD
TZOFFSETFROM:-0400
TZOFFSETTO:-0500
TZNAME:EST
DTSTART:20201101T060000
END:STANDARD
END:VTIMEZONE
BEGIN:VEVENT
DTSTART;TZID=America/New_York:20200418T193000
DTEND;TZID=America/New_York:20200419T004500
DTSTAMP:20260421T101821
CREATED:20200303T191714Z
LAST-MODIFIED:20200303T193047Z
UID:2182-1587238200-1587257100@swingremix.com
SUMMARY:Swing Megamix Dance APRIL 18
DESCRIPTION:The SPRING 2020 SEASON is upon us and we’ve got great news! We’ll be presenting two Swing Megamix Dance Parties because we’ll be hosting these in the 4\,500 sq ft Gymnasium of the Marlene Meyerson JCC. The first of the two will be on Saturday April 18th 2020  \n \n Pre-Dance WORKSHOPS\, A BEGINNER SWING CLASS (Free with General Admission)\, LIVE MUSIC\, DANCE PERFORMANCES and Lots of SOCIAL DANCE TIME. PLUS A VINTAGE MARKET\, VINTAGE FILMS and give aways at our showtime hour.\n \n  \nTICKETS ON SALE\nDiscounted Advanced Tickets available starting MONDAY MARCH 9th\nThe Early Bird prices will be good thru April 4th only! Then prices go up.  \nOUTLINE OF NIGHT \nWORKSHOPS\n6:30PM (55min) – TITLE TBA | SWING WORKSHOP (Adv Basics and up)\nLocation: 3rd Floor Gymnasium\nDescription: TBA\nInstructor TBA \n7:30PM (55min) TITLE TBA | LINDY HOP WORKSHOP  Level: Int +\nLocation: 4th Floor\nDetails: TBA\nInstructor: TBA \n7:45PM (30 min) BEGINNER SWING | Level: Beginner Open\nLocation: 3rd Floor Gymnasium\nThis class is great if you’re new to swing or if you would like a refresher on partnering. You’ll learn techniques that will bring you up to speed with the crowd of swing dancers. This class is FREE with your General Admission ticket.\nInstructor: TBA \n8:30PM LIVE MUSIC  | SOCIAL DANCING\nLocation: 3rd Floor Gymnasium \n10:45PM ANNOUNCEMENTS  | PERFORMANCES & GIVE AWAYS\n \n12:45AM END  | SEE YOU NEXT MONTH \n  \n
URL:https://swingremix.com/event/swing-mega-remix-apr-18-4500-gym/
LOCATION:Marlene Meyerson JCC Manhattan\, 334 Amsterdam Ave\, New York\, NY\, 10023\, United States
CATEGORIES:Dance Party,Workshops
ATTACH;FMTTYPE=image/jpeg:https://swingremix.com/wp-content/uploads/2020/03/SocialFloor_SwingRemixFEB2020web_MG_8408.jpg
ORGANIZER;CN="Swing%20Remix":MAILTO:info@swingremix.com
END:VEVENT
END:VCALENDAR