BEGIN:VCALENDAR
VERSION:2.0
PRODID:-//Swing Remix - ECPv4.9.14.1//NONSGML v1.0//EN
CALSCALE:GREGORIAN
METHOD:PUBLISH
X-WR-CALNAME:Swing Remix
X-ORIGINAL-URL:https://swingremix.com
X-WR-CALDESC:Events for Swing Remix
BEGIN:VTIMEZONE
TZID:America/New_York
BEGIN:DAYLIGHT
TZOFFSETFROM:-0500
TZOFFSETTO:-0400
TZNAME:EDT
DTSTART:20190310T070000
END:DAYLIGHT
BEGIN:STANDARD
TZOFFSETFROM:-0400
TZOFFSETTO:-0500
TZNAME:EST
DTSTART:20191103T060000
END:STANDARD
END:VTIMEZONE
BEGIN:VEVENT
DTSTART;TZID=America/New_York:20190302T193000
DTEND;TZID=America/New_York:20190303T003000
DTSTAMP:20260424T074628
CREATED:20181027T135902Z
LAST-MODIFIED:20190225T224100Z
UID:1308-1551555000-1551573000@swingremix.com
SUMMARY:SWING REMIX Saturday March 2
DESCRIPTION:SWING REMIX DANCE\nDATE: Saturday March 2\, 2019\nLIVE MUSIC: Glenn Crytzer’s Savoy Seven\nLOCATION: Marlene Meyerson JCC Manhattan\nThe Swing Remix Saga continues into  WINTER 2019 Season. Live Music featuring Glenn Crytzer’s Savoy Seven\, DeeJay VOON\, Showcases by our instructors\, Vintage Market and lots of Social floor time. This will be Glenn Crytzer’s 10th appearance with us. This master of the rhythm guitar is a crowd favorite with the Balboa & Collegiate Shaggers and we’re expecting a packed house. \nDISCOUNT TICKETS ONLINE NOW | Join Our FACEBOOK INVITE. \n \n \n \nGlenn Crytzer is a New York City based bandleader\, arranger\, composer\, guitarist\, and vocalist who is in love with the music of the Jazz Age and Swing Era.\n​\nWhile completing his formal training in classical composition and cello at the Cleveland Institute of Music and the Florida State University\, Glenn took up dancing the Lindy Hop as a hobby. Through the Lindy his love of early jazz grew\, but he lamented that there were so few musical groups that specialized authentic performance of his favorite kind of music. Glenn decided to put his musical training to use\, taught himself guitar\, banjo\, and jazz arranging\, and set about bringing to life the music he loved.\n​\nNow in his mid 30s\, Glenn has become a staple in New York City’s jazz scene as a guitarist and bandleader. He has released 8 albums with his big band and combos and dozens of his recordings have been featured in films and TV shows seeking to evoke the sound of the golden age of radio. In 2017 his big band was named Best Group in New York in the NYC Jazz Awards. https://www.glenncrytzer.com \nWORKSHOPS\n6:30PM (55min) – SWING WORKSHOP | INTRO TO LINDY (Adv Basics and up)\nLocation: Auditorium L2\nDescription: The Lindy Hop is the grandfather of all the swing dances. Learn some fundamental steps and classic stylings of this original New York City dance. Material includes: Circle\, Swing Out\, Double Tuck Turn\, Follows Swivel and more. No partner required.\nInstructors: Spencer Weisbond & Maria Kelley \n \n7:30PM (55min) LINDY HOP WORKSHOP | SWINGIN IN RHYTHM  Level: Int +\nLocation: 4th Floor\nDescription: play with swing outs focusing on footwork variations inspired by Frankie Manning. Includes leaders Under Arm swing outs\, Rhythm variations on 5\, 6\, 7 & 8\, Kick-Aways\, Chugs and the Eagle slide.\nInstructor: Adrienne & Rafal \n \n7:45PM (30 min) BEGINNER SWING | Level: Beginner Open\nLocation: Auditorium L2\nThis class is great if you’re new to swing or if you would like a refresher on partnering. You’ll learn techniques that will bring you up to speed with the crowd of swing dancers. This class is FREE with your General Admission ticket.\nInstructor: Paolo & Team members \n\n\nPRICING ONLINE & DOOR\n\n\n\n\n\nGeneral Admission\n$16 Early Bird Online Price (limited quantity – sales deadlines)\n$18-20 Online (limited quantity – sales deadlines)\n$25 DOOR\n6:30 Swing Workshop & Dance\n$27.00 Early Bird price (limited quantity)\n$28-30 Online purchase (limited quantity)\n$35 DOOR ($12 Add On for those who purchased General Admission online)\n7:30 Lindy Hop Workshop & Dance\n$27.00 Early Bird price (limited quantity)\n$28-30 Online purchase (limited quantity)\n$35 DOOR ($12 Add On for those who purchased General Admission online)\n6:30 & 7:30 Both Workshops & Dance\n$40 Online purchase (limited quantity)\n$50 DOOR ($24 Add On for those who purchased General Admission online)\n\n\n\n  \n
URL:https://swingremix.com/event/swing-remix-dance-march-2/
LOCATION:Marlene Meyerson JCC Manhattan\, 334 Amsterdam Ave\, New York\, NY\, 10023\, United States
CATEGORIES:Dance Party
ATTACH;FMTTYPE=image/jpeg:https://swingremix.com/wp-content/uploads/2018/05/SwingRemix_GabyRafal_Toss_RipItUp_VERTICALlogo_IMG_0401.jpg
ORGANIZER;CN="Swing%20Remix":MAILTO:info@swingremix.com
END:VEVENT
END:VCALENDAR