BEGIN:VCALENDAR
VERSION:2.0
PRODID:-//Swing Remix - ECPv4.9.14.1//NONSGML v1.0//EN
CALSCALE:GREGORIAN
METHOD:PUBLISH
X-WR-CALNAME:Swing Remix
X-ORIGINAL-URL:https://swingremix.com
X-WR-CALDESC:Events for Swing Remix
BEGIN:VTIMEZONE
TZID:America/New_York
BEGIN:DAYLIGHT
TZOFFSETFROM:-0500
TZOFFSETTO:-0400
TZNAME:EDT
DTSTART:20190310T070000
END:DAYLIGHT
BEGIN:STANDARD
TZOFFSETFROM:-0400
TZOFFSETTO:-0500
TZNAME:EST
DTSTART:20191103T060000
END:STANDARD
END:VTIMEZONE
BEGIN:VEVENT
DTSTART;TZID=America/New_York:20190525T193000
DTEND;TZID=America/New_York:20190526T004500
DTSTAMP:20260423T222259
CREATED:20181027T140605Z
LAST-MODIFIED:20190627T114525Z
UID:1312-1558812600-1558831500@swingremix.com
SUMMARY:Swing Remix with Swedes in NYC MAY 25
DESCRIPTION:\nSWING REMIX DANCE PARTY\nSaturday May 25th\, 2019\nAnna Cecilia & The Big Time Plus DJ Bobby White\nMarlene Meyerson JCC Manhattan\n\nSaturday May 25th will feature some founders of the the Rhythm Hot Shots & The Harlem Hot Shots based out of Sweden. Plus Swedish vocalist Anna Cecilia & The Big Time\n\nNEWS FLASH: In lieu of the unfortunate passing of Norma Miller\, whom our swing community loved and adored\, we will be adjusting some of the activities of evening to pay tribute to this remarkable icon of Lindy Hop. We are inviting all our dance talents both visiting and local to join us in a demo of the Trickeration routine during a band break (time TBA). More details coming via our Facebook page. In addition\, our 7:30pm workshop will feature a portion of this Trickeration routine.\nOur hearts go out to the family and friends of Norma and the dance communities from around the globe who learned from and were inspired by her.\nThe Swing Remix joins a weekend long series of special events celebrating the Swedes contributions during the 1980s (and thru to the present) on Lindy Hop and how the personal training with Frankie Manning\, Al Minns influenced them and thousands of enthusiastic dancers from around the world. The spirit of the event is to return to the approach that dancers took 35 years ago when they were first discovering Lindy Hop. Expect some fabulous dance performances\, unique vintage video clips and panel discussions our vintage market and lots of social dance time. LIVE MUSIC featuring Anna Cevilia (from Sweden) and The Big Time Band. \nWORKSHOP | PRESENTATION\n6:30PM (55min) – LECTURE & FILM | THE SWEDISH PERSEPECTIVE\nLocation: Auditorium\nDescription: This Lecture and Film Showing will discuss influence that dancers such as Frankie Manning and Al Minns made on the Swedes Lindy Hop scene. We’ll learn about groups like The Rhythm Hot Shots and the teaching methods of the Swedes helped encourage and whole new crop of dancers worldwide.\nPANEL MEMBERS: Lennart Westerlund\, eWa Staremo-Burak\, Åsa Heedman discuss their experiences and perspective of Lindy Hop\n\n \n7:30PM (55min) – LINDY WORKSHOP | Trickeration Patterns of Norma Miller\nLEVEL: OPEN but swing experience recommended\nLocation: L4\nDescription: In celebration of Norma Miller\, we will be teaching patterns from a routine she called “Trickeration”.Influential Lindy Hoppers who trained in the 1990’s with some of the greats from the Swing Era join us in the RARE opportunity to learn this solo jazz material.\nInstructors: Sing Lim (Singapore) and Adam Browzowski\, assisted by Lindy Hop Veteran Paolo Pasta Lanna.\n \n \n7:45PM (30 min) BEGINNER SWING | Level: Beginner Open\nLocation: Auditorium L2\nThis class is great if you’re new to swing or if you would like a refresher on partnering. You’ll learn techniques that will bring you up to speed with the crowd of swing dancers. This class is FREE with your General Admission ticket.\nInstructor: Spencer Weisbond \nTICKETS for SATURDAY MAY 25th \nOr go to swedesinnewyorkcity.com for more details on the entire weekend of festivities \n \n \n  \nHISTORY\nThis May will mark the 35 year anniversary of three Swedes\, Anders Lind\, Henning Sörensen\, and Lennart Westerlund\, visiting New York for the first time looking for the roots of the Lindy Hop. It was then that they met Al Minns and first saw Frankie Manning. Lennart’s close relationship with Frankie began soon after with a deep friendship and a 35 year legacy of studying Lindy Hop from both of their teachings. The date happened to also coincide with Frankie’s birthday\, which has been an important date for all Lindy Hoppers everywhere since the resurgence. \nSPIRIT\nThe spirit of the event is to return to the approach that dancers took 35 years ago when they were first discovering Lindy Hop. Imagine what it was like to learn about Lindy Hop before YouTube\, Google\, and social media\, when you had to investigate exactly how Al Minns\, Frankie Manning\, and other original Harlem dancers moved and interpreted jazz music. Imagine what it was like when all of your learning was directly from the surviving dancers from the Savoy Ballroom or from studying old videos. \nROOTS\nThe idea is to get back to both the roots of the dance but also the roots of learning\, focusing on the Harlem and African American history and on the lessons that those Harlem dancers first shared with their curious students. These workshops will get back to the roots of the dance\, reviving some the spirit of how Lennart\, eWa\, and other dancers from the 1980s first approached learning Lindy Hop\, with deep respect for the history of the dance. \nRESPECT\nJoin us with fresh eyes\, a curious spirit\, a deep respect for the Harlem history\, and an unfaltering connection between jazz dancing and jazz music. \n  \n\n\n\n\nPRICING ONLINE & DOOR\n\n\n\n\n\nGeneral Admission\n$25 Early Bird Online Price (Includes Panel at 6:30)\n$28 ADVANCED Online (limited quantity for panel)\n$35 DOOR\n7:30 Lindy Hop Workshop & Dance\n$35.00 Early Bird price (Also includes Panel 6:30)\n$38 Online purchase (Also includes Panel 6:30)\n$45 DOOR\n\n\n\n\n\n\n\n\nVIP ADMISSION\n$65.00 ADMISSION (Includes Panel 6:30)\n$85.00 WORKSHOP & ADMISSION (Includes Panel 6:30)\n\n\n\n\n\n\n
URL:https://swingremix.com/event/swing-remix-dance-may-25th-pending/
LOCATION:Marlene Meyerson JCC Manhattan\, 334 Amsterdam Ave\, New York\, NY\, 10023\, United States
CATEGORIES:Dance Party,Workshops
ATTACH;FMTTYPE=image/jpeg:https://swingremix.com/wp-content/uploads/2018/10/SwedishLindyHopNight_GraphicMAy25.jpg
ORGANIZER;CN="Swing%20Remix":MAILTO:info@swingremix.com
END:VEVENT
END:VCALENDAR