BEGIN:VCALENDAR
VERSION:2.0
PRODID:-//Swing Remix - ECPv4.9.14.1//NONSGML v1.0//EN
CALSCALE:GREGORIAN
METHOD:PUBLISH
X-WR-CALNAME:Swing Remix
X-ORIGINAL-URL:https://swingremix.com
X-WR-CALDESC:Events for Swing Remix
BEGIN:VTIMEZONE
TZID:America/New_York
BEGIN:DAYLIGHT
TZOFFSETFROM:-0500
TZOFFSETTO:-0400
TZNAME:EDT
DTSTART:20190310T070000
END:DAYLIGHT
BEGIN:STANDARD
TZOFFSETFROM:-0400
TZOFFSETTO:-0500
TZNAME:EST
DTSTART:20191103T060000
END:STANDARD
END:VTIMEZONE
BEGIN:VEVENT
DTSTART;TZID=America/New_York:20191102T193000
DTEND;TZID=America/New_York:20191103T004500
DTSTAMP:20260421T114750
CREATED:20190604T021434Z
LAST-MODIFIED:20191020T203632Z
UID:1654-1572723000-1572741900@swingremix.com
SUMMARY:Swing Remix with Glenn Crytzer's Savoy Seven NOV 2
DESCRIPTION:SWING REMIX DANCE PARTY\nSATURDAY NOVEMBER 2nd\, 2019\n7:30PM Doors Open for General Admission\nLIVE MUSIC: Glenn Crytzer’s Savoy Seven\nMarlene Meyerson JCC Manhattan 334 Amsterdam Ave NYC\nThe Swing Remix Saga continues into  the FALL 2019 Season with Live Music featuring Glenn Crytzer’s Savoy Seven\, Expect to see our Vintage Market\, Showcases by our instructors\, and lots of Social floor time. This will be Glenn Crytzer’s 10th appearance with us tying the all time appearance record currently held by Gordon Webster. Glenn Crytzer’s Savoy 7 is sure to please with that distinctive Rhythm guitar sound that’s a crowd favorite with the Balboa & Collegiate Shaggers! We’re expecting a packed house. \n \n \nGlenn Crytzer is a New York City based bandleader\, arranger\, composer\, guitarist\, and vocalist who is in love with the music of the Jazz Age and Swing Era.\n​\nWhile completing his formal training in classical composition and cello at the Cleveland Institute of Music and the Florida State University\, Glenn took up dancing the Lindy Hop as a hobby. Through the Lindy his love of early jazz grew\, but he lamented that there were so few musical groups that specialized authentic performance of his favorite kind of music. Glenn decided to put his musical training to use\, taught himself guitar\, banjo\, and jazz arranging\, and set about bringing to life the music he loved.\n​\nNow in his mid 30s\, Glenn has become a staple in New York City’s jazz scene as a guitarist and bandleader. He has released 8 albums with his big band and combos and dozens of his recordings have been featured in films and TV shows seeking to evoke the sound of the golden age of radio. In 2017 his big band was named Best Group in New York in the NYC Jazz Awards. https://www.glenncrytzer.com \n \nWORKSHOPS\n6:30PM (55min) – Exploring The Balboa | Swing Workshop (Adv Basics and up) Location: Auditorium L2\nDescription: A great Exploration of the style of swing called Balboa. Here you’ll get a wonderful intruduction to the dance\, learn the basic footwork and pattern or two.\nInstructors: Yurina Shin & Lewi Gilamichael \n \n7:30PM (55min) SOLO JAZZ WORKSHOP | TRICKERATION CHOREOGRAPHY  Level: Int +\nLocation: 4th Floor\nDescription: Learn or refresh your knowledge of this world famous routine created by NORMA MILLER the Queen of Swing. In response to the GLOBAL TRICKERATION PROJECT\, we’ll be participating by presenting this workshop followed by a showcase of the routine later in the evening open to all who wish to participate! A portion of the sales of this workshop will go towards the Frankie Manning Foundation (to benefit The Norma Miller Estate)\nInstructor: Rafal Pustelny \n\nphoto by Byron Hon © 2019 \n7:45PM (30 min) BEGINNER SWING | Level: Beginner Open\nLocation: Auditorium L2\nThis class is great if you’re new to swing or if you would like a refresher on partnering. You’ll learn techniques that will bring you up to speed with the crowd of swing dancers. This class is FREE with your General Admission ticket.\nInstructor: Spencer  \n  \n\n\nPRICING ONLINE & DOOR\n\n\n\n\n\nGeneral Admission\n$16 Early Bird Online Price (limited quantity – sales deadlines)\n$18-20 Online (limited quantity – sales deadlines)\n$25 DOOR\n6:30 Swing Workshop & Dance\n$27.00 Early Bird price (limited quantity)\n$28-30 Online purchase (limited quantity)\n$35 DOOR ($12 Add On for those who purchased General Admission online)\n7:30 Lindy Hop Workshop & Dance\n$27.00 Early Bird price (limited quantity)\n$28-30 Online purchase (limited quantity)\n$35 DOOR ($12 Add On for those who purchased General Admission online)\n6:30 & 7:30 Both Workshops & Dance\n$40 Online purchase (limited quantity)\n$50 DOOR ($24 Add On for those who purchased General Admission online)\n\n\n\n
URL:https://swingremix.com/event/swing-remix-fall-season-nov-2/
CATEGORIES:Dance Party,Workshops
ATTACH;FMTTYPE=image/jpeg:https://swingremix.com/wp-content/uploads/2019/06/3016GlennCrytzerTYPE.jpg
END:VEVENT
END:VCALENDAR