BEGIN:VCALENDAR
VERSION:2.0
PRODID:-//Swing Remix - ECPv4.9.14.1//NONSGML v1.0//EN
CALSCALE:GREGORIAN
METHOD:PUBLISH
X-WR-CALNAME:Swing Remix
X-ORIGINAL-URL:https://swingremix.com
X-WR-CALDESC:Events for Swing Remix
BEGIN:VTIMEZONE
TZID:America/New_York
BEGIN:DAYLIGHT
TZOFFSETFROM:-0500
TZOFFSETTO:-0400
TZNAME:EDT
DTSTART:20190310T070000
END:DAYLIGHT
BEGIN:STANDARD
TZOFFSETFROM:-0400
TZOFFSETTO:-0500
TZNAME:EST
DTSTART:20191103T060000
END:STANDARD
END:VTIMEZONE
BEGIN:VEVENT
DTSTART;TZID=America/New_York:20190907T193000
DTEND;TZID=America/New_York:20190908T004500
DTSTAMP:20260423T161132
CREATED:20190604T015319Z
LAST-MODIFIED:20190904T182959Z
UID:1642-1567884600-1567903500@swingremix.com
SUMMARY:Swing Remix Sept 7 w Gordon Webster & His Gang
DESCRIPTION:SWING REMIX DANCE PARTY\nSATURDAY SEPTEMBER 7th\, 2019\n7:30PM Doors Open for General Admission\nLIVE MUSIC: Gordon Webster and Friends | DJ TOMO\nMarlene Meyerson JCC Manhattan 334 Amsterdam Ave NYC\nThe Swing Remix Saga returns with our Season Opener and Back to School Dance on Saturday\, September 7th featuring Gordon Webster & Friends. This will be Mr. Webster’s 11th show with us at Swing Remix\, which will put this band on TOP for the most appearances ever at our dance party. We’ll also be featuring some Rockin pre-dance workshops along with performances and giveaways!. And look out for a fabulous vintage market\, vintage films and more. \nWORKSHOPS\n6:30PM (55min) –  Intro to Collegiate Shag | Swing Workshop\nLEVEL: Adv Basics and up)\nLocation: Auditorium L2\nDescription: Collegiate Shag is an energetic partner dance that was popular in the 1930s and 40s. Its unique double-rhythm six-count basic and fancy footwork flourishes distinguish it from other styles of swing from the Carolina Shag to the Lindy Hop & Balboa. Today it’s evolved into a polished\, dynamic social dance with creative footwork flourishes and seemingly endless patterns. We’ll cover the basic single and double rhythm footwork\, dancing from closed to open position and back\, breaking away\, then we’ll do it all over faster. And finally you’ll learn how it’s easily incorporated into your swing dancing.\nInstructors: Paolo & Jaime \n\nPhoto by Byron Hon © 2018 \n\nSee YouTube Example \n7:30PM (55min) SOLO JAZZ The Golden Age of Hollywood | Lindy Hop Workshop\nLevel: Int +\nLocation: 4th Floor\nDESCRIPTION: This is a Soft Shoe class inspired by the greats of The Golden Age of Hollywood (e.g.. Fred & Ginger\, Gene Kelly\, Sammy Davis Jr.). Andrew Black\, tap & Broadway dancer extraordinaire  joins us for the first time with this opportunity to build your skills in Hollywood style Soft Shoe\, designed for the Swing Dancer. Andrew Black comes to us from the prestigious Broadway Dance Center where his Tap and Theater Dance classes are technique based with an in-depth warm-up\, and across-the-floor patterns that focus on fundamentals including turns\, jumps\, and clear rhythms. The combination is in a variety of styles from 1920’s Charleston\, to 1940’s Swing to MGM style Fred and Ginger numbers..\nInstructor: Andrew Black \n\nAndrew Black Tap Dancer \n\nYouTube Video Clip from Turin Jazz Festival\nhttps://youtu.be/V5qC6WRBcAY Tap Dance Classes\nChoreographer for this fantastic number Oh Lady Be Good Bathtub Ginny’s \n7:45PM (30 min) BEGINNER SWING | Level: Beginner Open\nLocation: Auditorium L2\nThis class is great if you’re new to swing or if you would like a refresher on partnering. You’ll learn techniques that will bring you up to speed with the crowd of swing dancers. This class is FREE with your General Admission ticket.\nInstructor: Spencer Weisbond \n\nEARY BIRD DISCOUNT TICKETS ARE AVAILABLE ONLINE beginning Monday JULY 29th.\nSee Bottom of this page for DOOR PRICES\n\n\n \n\n\nAnd check out our new VIP tickets for those wanting extra bonuses. These VIP tickets help to alleviate our ever-increasing costs\, so we greatly appreciate your consideration for those options when purchasing. \n\n\nJoin our FACEBOOK INVITE HERE \n  \n\n\nPRICING ONLINE & DOOR\n\n\n\n\n\nGeneral Admission\n$16 Early Bird Online Price (limited quantity – sales deadlines)\n$18-20 Online (limited quantity – sales deadlines)\n$25 DOOR\n6:30 Swing Workshop & Dance\n$27.00 Early Bird price (limited quantity)\n$28-30 Online purchase (limited quantity)\n$35 DOOR ($12 Add On for those who purchased General Admission online)\n7:30 Lindy Hop Workshop & Dance\n$27.00 Early Bird price (limited quantity)\n$28-30 Online purchase (limited quantity)\n$35 DOOR ($12 Add On for those who purchased General Admission online)\n6:30 & 7:30 Both Workshops & Dance\n$40 Online purchase (limited quantity)\n$50 DOOR ($24 Add On for those who purchased General Admission online)\n\n\n\n
URL:https://swingremix.com/event/swing-remix-fall-season-opener/
LOCATION:Marlene Meyerson JCC Manhattan\, 334 Amsterdam Ave\, New York\, NY\, 10023\, United States
CATEGORIES:Dance Party,Workshops
ATTACH;FMTTYPE=image/jpeg:https://swingremix.com/wp-content/uploads/2019/06/GordonWebster_BW_TYPEWEB_2018IMG_2864.jpg
ORGANIZER;CN="Swing%20Remix":MAILTO:info@swingremix.com
END:VEVENT
END:VCALENDAR