BEGIN:VCALENDAR
VERSION:2.0
PRODID:-//Swing Remix - ECPv4.9.14.1//NONSGML v1.0//EN
CALSCALE:GREGORIAN
METHOD:PUBLISH
X-WR-CALNAME:Swing Remix
X-ORIGINAL-URL:https://swingremix.com
X-WR-CALDESC:Events for Swing Remix
BEGIN:VTIMEZONE
TZID:America/New_York
BEGIN:DAYLIGHT
TZOFFSETFROM:-0500
TZOFFSETTO:-0400
TZNAME:EDT
DTSTART:20190310T070000
END:DAYLIGHT
BEGIN:STANDARD
TZOFFSETFROM:-0400
TZOFFSETTO:-0500
TZNAME:EST
DTSTART:20191103T060000
END:STANDARD
END:VTIMEZONE
BEGIN:VEVENT
DTSTART;TZID=America/New_York:20190629T193000
DTEND;TZID=America/New_York:20190630T004500
DTSTAMP:20260423T172846
CREATED:20190227T165605Z
LAST-MODIFIED:20190618T025059Z
UID:1498-1561836600-1561855500@swingremix.com
SUMMARY:SWING REMIX Danny Jonokuchi & The Revisionists SAT JUNE 29
DESCRIPTION:SWING REMIX DANCE PARTY\nSaturday June 29\, 2019\n7:30PM Doors Open for General Admission\nLIVE MUSIC: DANNY JONOKUCHI & THE REVISIONISTS\nMarlene Meyerson JCC Manhattan 334 Amsterdam Ave NYC\nBack By Popular Demand\, Danny Jonokuchi and The Revisions! On Saturday June 29th our BIGGEST dance of the Summer will feature Danny Jonokuchi and The Revisions at the JCC in Manhattan. This will also be their official CD release party celebrating the release of “Let Me Off Uptown” a brand new album. It’s a record specially arranged for dancers and Mr. Jonokuchi will be debuting many of the tunes for the very first time! \nWORKSHOPS\n6:30PM (55min) – SWING WORKSHOP | Swing Patterns | Level: (Adv Basics and up)\nLocation: Auditorium L2\nSEE LINK FOR DETAILS\n \n7:30PM (55min) LINDY HOP WORKSHOP | The St. Louis Shim Sham |  Level: Int +\nLocation: 4th Floor\nSEE LINK FOR DETAILS\n \n7:45PM (30 min) BEGINNER SWING | Level: Beginner Open\nLocation: Auditorium L2\n\n \n  \n\n\nPRICING ONLINE & DOOR\n\n\n\n\n\nGeneral Admission\n$16 Early Bird Online Price (limited quantity – sales deadlines)\n$18-20 Online (limited quantity – sales deadlines)\n$25 DOOR\n6:30 Swing Workshop & Dance\n$27.00 Early Bird price (limited quantity)\n$28-30 Online purchase (limited quantity)\n$35 DOOR ($12 Add On for those who purchased General Admission online)\n7:30 Lindy Hop Workshop & Dance\n$27.00 Early Bird price (limited quantity)\n$28-30 Online purchase (limited quantity)\n$35 DOOR ($12 Add On for those who purchased General Admission online)\n6:30 & 7:30 Both Workshops & Dance\n$40 Online purchase (limited quantity)\n$50 DOOR ($24 Add On for those who purchased General Admission online)\n\n\n\n
URL:https://swingremix.com/event/swing-remix-sat-june-29/
LOCATION:Marlene Meyerson JCC Manhattan\, 334 Amsterdam Ave\, New York\, NY\, 10023\, United States
CATEGORIES:Dance Party,Workshops
ATTACH;FMTTYPE=image/jpeg:https://swingremix.com/wp-content/uploads/2019/02/SwingRemix_WEB_PostcardPrintReadyCredits_TeamGaby_AnitaSaha_IMG_0261.jpg
ORGANIZER;CN="Swing%20Remix":MAILTO:info@swingremix.com
END:VEVENT
END:VCALENDAR