BEGIN:VCALENDAR
VERSION:2.0
PRODID:-//Swing Remix - ECPv4.9.14.1//NONSGML v1.0//EN
CALSCALE:GREGORIAN
METHOD:PUBLISH
X-WR-CALNAME:Swing Remix
X-ORIGINAL-URL:https://swingremix.com
X-WR-CALDESC:Events for Swing Remix
BEGIN:VTIMEZONE
TZID:America/New_York
BEGIN:DAYLIGHT
TZOFFSETFROM:-0500
TZOFFSETTO:-0400
TZNAME:EDT
DTSTART:20190310T070000
END:DAYLIGHT
BEGIN:STANDARD
TZOFFSETFROM:-0400
TZOFFSETTO:-0500
TZNAME:EST
DTSTART:20191103T060000
END:STANDARD
END:VTIMEZONE
BEGIN:VEVENT
DTSTART;TZID=America/New_York:20190803T193000
DTEND;TZID=America/New_York:20190804T004500
DTSTAMP:20260423T160149
CREATED:20190604T015025Z
LAST-MODIFIED:20190725T145158Z
UID:1640-1564860600-1564879500@swingremix.com
SUMMARY:SWING REMIX Summer Dance with Eyal Vilner Big Band
DESCRIPTION:SWING REMIX DANCE PARTY\nSATURDAY AUGUST 3\, 2019\n7:30PM Doors Open for General Admission\nLIVE MUSIC: EYAL VILNER BIG BAND plus DJ Lalaine\nMarlene Meyerson JCC Manhattan 334 Amsterdam Ave NYC\nWe are thrilled to announce our first AUGUST REMIX date in perhaps 10 years. We’ve stayed clear of the August dates in the past due to all the outdoor festivities and celebrations\, but this time\, we’re pairing up with CALEB TEICHER & COMPANY including the superstar team of NATHAN BUGH and EVITA ARCE.  \nWORKSHOPS\n6:30PM (55min) – SWING WORKSHOP | SOLO JAZZ from “MEET ELLA” (Adv Basics and up)\nLocation: Auditorium L2\nDescription: Learn segments of Nathan Bugh and Caleb Teicher’s Solo Jazz choreography from “Meet Ella”!\nInstructors: Evita\, Caleb & Nathan \n7:30PM (55min) LINDY HOP FROM “MEET ELLA”  Level: Int +\nLocation: 4th Floor\nDescription: Learn segments of Nathan Bugh and Caleb Teicher’s Lindy Hop choreography from “Meet Ella”!\nInstructors: Evita\, Caleb & Nathan\n \n7:45PM (30 min) BEGINNER SWING | Level: Beginner Open\nLocation: Auditorium L2\nThis class is great if you’re new to swing or if you would like a refresher on partnering. You’ll learn techniques that will bring you up to speed with the crowd of swing dancers. This class is FREE with your General Admission ticket.\nInstructor: TBA \n  \n\n\nPRICING ONLINE & DOOR\n\n\n\n\n\nGeneral Admission\n$16 Early Bird Online Price (limited quantity – sales deadlines)\n$18-20 Online (limited quantity – sales deadlines)\n$25 DOOR\n6:30 Swing Workshop & Dance\n$27.00 Early Bird price (limited quantity)\n$28-30 Online purchase (limited quantity)\n$35 DOOR ($12 Add On for those who purchased General Admission online)\n7:30 Lindy Hop Workshop & Dance\n$27.00 Early Bird price (limited quantity)\n$28-30 Online purchase (limited quantity)\n$35 DOOR ($12 Add On for those who purchased General Admission online)\n6:30 & 7:30 Both Workshops & Dance\n$40 Online purchase (limited quantity)\n$50 DOOR ($24 Add On for those who purchased General Admission online)\n\n\n\n
URL:https://swingremix.com/event/swing-remix-summer-date-pending/
LOCATION:Marlene Meyerson JCC Manhattan\, 334 Amsterdam Ave\, New York\, NY\, 10023\, United States
CATEGORIES:Dance Party,Workshops
ATTACH;FMTTYPE=image/jpeg:https://swingremix.com/wp-content/uploads/2019/06/Postcard_BACKweb_2019SUMMER_AUG3.jpg
ORGANIZER;CN="Swing%20Remix":MAILTO:info@swingremix.com
END:VEVENT
END:VCALENDAR