BEGIN:VCALENDAR
VERSION:2.0
PRODID:-//Swing Remix - ECPv4.9.14.1//NONSGML v1.0//EN
CALSCALE:GREGORIAN
METHOD:PUBLISH
X-WR-CALNAME:Swing Remix
X-ORIGINAL-URL:https://swingremix.com
X-WR-CALDESC:Events for Swing Remix
BEGIN:VTIMEZONE
TZID:America/New_York
BEGIN:DAYLIGHT
TZOFFSETFROM:-0500
TZOFFSETTO:-0400
TZNAME:EDT
DTSTART:20200308T070000
END:DAYLIGHT
BEGIN:STANDARD
TZOFFSETFROM:-0400
TZOFFSETTO:-0500
TZNAME:EST
DTSTART:20201101T060000
END:STANDARD
END:VTIMEZONE
BEGIN:VEVENT
DTSTART;TZID=America/New_York:20200111T183000
DTEND;TZID=America/New_York:20200111T203000
DTSTAMP:20260421T181817
CREATED:20191112T083222Z
LAST-MODIFIED:20191217T203555Z
UID:1981-1578767400-1578774600@swingremix.com
SUMMARY:Workshops Jan 11 2020 Winter Season
DESCRIPTION:Multiple time World Swing Dance champion Nathalie Gomes will be our featured workshop instructor.  \nWORKSHOPS\n \n6:30PM (55min) – Fun steps and patterns for packed floors | SWING WORKSHOP  (Adv Basics and up)\nLocation: Auditorium L2\nDescription:This workshop has something for everyone. Here you’ll learn fun steps and creative variations to do when the dance floor gets a little too crowded and you don’t want to rely on Balboa.\nInstructors: Nathalie Gomes Adams \n7:30PM (55min) Creating Contrast in your Lindy Hop | LINDY HOP  Level: Int +\nLocation: 4th Floor\nContrast makes Lindy Hop more interesting. It can be created through footwork\, changes in movement speed\, changes of levels and more. After this workshop\, you will have several tools and skills to add texture to your dancing.\nInstructor: Nathalie Gomes Adams \n7:45PM (30 min) BEGINNER SWING | Level: Beginner Open\nLocation: Auditorium L2\nThis class is great if you’re new to swing or if you would like a refresher on partnering. You’ll learn techniques that will bring you up to speed with the crowd of swing dancers. This class is FREE with your General Admission ticket.\nInstructor: TBA \n  \nBorn in France\, Nathalie is a World Swing Dance Champion and has multiple wins in all the major U.S. swing dance championships. Known for her gravity-defying aerials\, Nathalie has taught and performed in more than 23 countries. Her vibrant performances have resulted in notable stage\, film\, and television appearances. She performed and served as an aerial consultant in the original Broadway production of “Swing!”\, and has appeared at Carnegie Hall and Lincoln Center. She was a featured dancer in the 2003 Julia Roberts film Mona Lisa Smile and was a model for the dancing elves in Robert Zemeckis’ 2004 animated feature The Polar Express with Tom Hanks. Her national television appearances include repeat engagements on The Today Show\, as well as Entertainment Tonight\, The View\, So You Think You Can Dance\, Good Morning America\, and on MTV. \nNathalie’s other notable credits include choreography and performances for Will Smith ‘s Willennium CD-release party on Times Square\, and a performance for President Bill Clinton at America’s Millennium New Year’s Eve Party\, produced by Quincy Jones and Stephen Spielberg. Nathalie frequently teaches\, choreographs and performs for corporate functions. Some of Her past clients include British Airways\, Sony\, Samsung\, Biore\, the New York Knicks\, and Seagrams. \nAlthough her performances are awe-inspiring\, Nathalie’s true love is teaching and coaching.While living in NYC for 11 years\, she founded and managed Hop Swing & A Jump\, a dance studio that was entirely dedicated to the swing dance area and all of its dance forms. Her heart took her to New Orleans in 2005 where she founded multiple dance related programs and venues: Dance Quarter\, NOLA Spaces\, Les ReBelles NOLA and MindSteppers where more than 700 children learn how to dance weekly! \n \n  \n \n  \n \n  \n
URL:https://swingremix.com/event/workshops-january-11/
LOCATION:Marlene Meyerson JCC Manhattan\, 334 Amsterdam Ave\, New York\, NY\, 10023\, United States
CATEGORIES:Dance Party,Workshops
ATTACH;FMTTYPE=image/jpeg:https://swingremix.com/wp-content/uploads/2019/11/Nathalie.jpg
ORGANIZER;CN="Swing%20Remix":MAILTO:info@swingremix.com
END:VEVENT
END:VCALENDAR